BEGIN:VCALENDAR
VERSION:2.0
PRODID:-//Makó - ECPv6.8.3//NONSGML v1.0//EN
CALSCALE:GREGORIAN
METHOD:PUBLISH
X-ORIGINAL-URL:http://mako.hu
X-WR-CALDESC:Events for Makó
REFRESH-INTERVAL;VALUE=DURATION:PT1H
X-Robots-Tag:noindex
X-PUBLISHED-TTL:PT1H
BEGIN:VTIMEZONE
TZID:Europe/Budapest
BEGIN:DAYLIGHT
TZOFFSETFROM:+0100
TZOFFSETTO:+0200
TZNAME:CEST
DTSTART:20240331T010000
END:DAYLIGHT
BEGIN:STANDARD
TZOFFSETFROM:+0200
TZOFFSETTO:+0100
TZNAME:CET
DTSTART:20241027T010000
END:STANDARD
END:VTIMEZONE
BEGIN:VEVENT
DTSTART;VALUE=DATE:20241206
DTEND;VALUE=DATE:20241207
DTSTAMP:20260422T161225
CREATED:20241029T114749Z
LAST-MODIFIED:20241029T114749Z
UID:32717-1733443200-1733529599@mako.hu
SUMMARY:Forgatós Táncegyüttes műsora
DESCRIPTION:
URL:http://mako.hu/program/forgatos-tancegyuttes-musora/
LOCATION:Hagymaház\, Posta u. 2.\, Makó\, 6900\, Magyarország
CATEGORIES:esemény
END:VEVENT
BEGIN:VEVENT
DTSTART;TZID=Europe/Budapest:20241206T160000
DTEND;TZID=Europe/Budapest:20241206T170000
DTSTAMP:20260422T161225
CREATED:20241204T090807Z
LAST-MODIFIED:20241204T090807Z
UID:33263-1733500800-1733504400@mako.hu
SUMMARY:Könyvtári sakkoktatás
DESCRIPTION:
URL:http://mako.hu/program/konyvtari-sakkoktatas/
LOCATION:József Attila Városi Könyvtár és Múzeum\, Deák Ferenc u. 2.\, Makó\, 6900\, Magyarország
CATEGORIES:esemény
ATTACH;FMTTYPE=image/jpeg:http://mako.hu/wp-content/uploads/2024/12/sakk.jpg
END:VEVENT
BEGIN:VEVENT
DTSTART;TZID=Europe/Budapest:20241206T170000
DTEND;TZID=Europe/Budapest:20241206T200000
DTSTAMP:20260422T161225
CREATED:20241106T115534Z
LAST-MODIFIED:20241106T115534Z
UID:32944-1733504400-1733515200@mako.hu
SUMMARY:Makói Magán Zeneiskola Ifjúsági Fúvószenekarának Koncertje
DESCRIPTION:
URL:http://mako.hu/program/makoi-magan-zeneiskola-ifjusagi-fuvoszenekaranak-koncertje/
LOCATION:Korona Szálló\, Széchenyi tér 10.\, Makó\, 6900\, Magyarország
CATEGORIES:esemény
END:VEVENT
END:VCALENDAR