BEGIN:VCALENDAR
VERSION:2.0
PRODID:-//Makó - ECPv6.8.3//NONSGML v1.0//EN
CALSCALE:GREGORIAN
METHOD:PUBLISH
X-ORIGINAL-URL:http://mako.hu
X-WR-CALDESC:Events for Makó
REFRESH-INTERVAL;VALUE=DURATION:PT1H
X-Robots-Tag:noindex
X-PUBLISHED-TTL:PT1H
BEGIN:VTIMEZONE
TZID:Europe/Budapest
BEGIN:DAYLIGHT
TZOFFSETFROM:+0100
TZOFFSETTO:+0200
TZNAME:CEST
DTSTART:20240331T010000
END:DAYLIGHT
BEGIN:STANDARD
TZOFFSETFROM:+0200
TZOFFSETTO:+0100
TZNAME:CET
DTSTART:20241027T010000
END:STANDARD
END:VTIMEZONE
BEGIN:VEVENT
DTSTART;TZID=Europe/Budapest:20241128T150000
DTEND;TZID=Europe/Budapest:20241128T160000
DTSTAMP:20260422T161856
CREATED:20241031T132754Z
LAST-MODIFIED:20241031T132754Z
UID:32858-1732806000-1732809600@mako.hu
SUMMARY:Honismereti kör találkozó
DESCRIPTION:
URL:http://mako.hu/program/honismereti-kor-talalkozo/
LOCATION:József Attila Városi Könyvtár és Múzeum\, Deák Ferenc u. 2.\, Makó\, 6900\, Magyarország
CATEGORIES:esemény
END:VEVENT
BEGIN:VEVENT
DTSTART;TZID=Europe/Budapest:20241128T153000
DTEND;TZID=Europe/Budapest:20241128T170000
DTSTAMP:20260422T161856
CREATED:20241031T132848Z
LAST-MODIFIED:20241031T132848Z
UID:32860-1732807800-1732813200@mako.hu
SUMMARY:Természgyógyász Klub
DESCRIPTION:
URL:http://mako.hu/program/termeszgyogyasz-klub/
LOCATION:József Attila Városi Könyvtár és Múzeum\, Deák Ferenc u. 2.\, Makó\, 6900\, Magyarország
CATEGORIES:esemény
END:VEVENT
BEGIN:VEVENT
DTSTART;TZID=Europe/Budapest:20241128T153000
DTEND;TZID=Europe/Budapest:20241128T183000
DTSTAMP:20260422T161856
CREATED:20241029T105652Z
LAST-MODIFIED:20241029T105652Z
UID:32705-1732807800-1732818600@mako.hu
SUMMARY:MŰZLI
DESCRIPTION:
URL:http://mako.hu/program/muzli-5/
LOCATION:József Attila Városi Könyvtár és Múzeum\, Deák Ferenc u. 2.\, Makó\, 6900\, Magyarország
CATEGORIES:esemény
END:VEVENT
BEGIN:VEVENT
DTSTART;TZID=Europe/Budapest:20241128T163000
DTEND;TZID=Europe/Budapest:20241128T180000
DTSTAMP:20260422T161856
CREATED:20241031T132926Z
LAST-MODIFIED:20241127T082209Z
UID:32862-1732811400-1732816800@mako.hu
SUMMARY:Mezei József koncert
DESCRIPTION:
URL:http://mako.hu/program/mezei-jozsef-koncert/
LOCATION:József Attila Városi Könyvtár és Múzeum\, Deák Ferenc u. 2.\, Makó\, 6900\, Magyarország
CATEGORIES:esemény
ATTACH;FMTTYPE=image/jpeg:http://mako.hu/wp-content/uploads/2024/11/20241128hegedukoncert.jpg
END:VEVENT
BEGIN:VEVENT
DTSTART;TZID=Europe/Budapest:20241128T170000
DTEND;TZID=Europe/Budapest:20241128T190000
DTSTAMP:20260422T161856
CREATED:20241029T105734Z
LAST-MODIFIED:20241029T133457Z
UID:32708-1732813200-1732820400@mako.hu
SUMMARY:Kutasd a múltad! (Petőfi Kulturális Program)
DESCRIPTION:
URL:http://mako.hu/program/kutasd-a-multat-petofi-kulturalis-program-3/
LOCATION:Hagymaház\, Posta u. 2.\, Makó\, 6900\, Magyarország
CATEGORIES:esemény
ATTACH;FMTTYPE=image/jpeg:http://mako.hu/wp-content/uploads/2024/10/kutasd-a-multat.jpg
END:VEVENT
END:VCALENDAR