BEGIN:VCALENDAR
VERSION:2.0
PRODID:-//Makó - ECPv6.8.3//NONSGML v1.0//EN
CALSCALE:GREGORIAN
METHOD:PUBLISH
X-ORIGINAL-URL:http://mako.hu
X-WR-CALDESC:Events for Makó
REFRESH-INTERVAL;VALUE=DURATION:PT1H
X-Robots-Tag:noindex
X-PUBLISHED-TTL:PT1H
BEGIN:VTIMEZONE
TZID:Europe/Budapest
BEGIN:DAYLIGHT
TZOFFSETFROM:+0100
TZOFFSETTO:+0200
TZNAME:CEST
DTSTART:20240331T010000
END:DAYLIGHT
BEGIN:STANDARD
TZOFFSETFROM:+0200
TZOFFSETTO:+0100
TZNAME:CET
DTSTART:20241027T010000
END:STANDARD
END:VTIMEZONE
BEGIN:VEVENT
DTSTART;TZID=Europe/Budapest:20241126T170000
DTEND;TZID=Europe/Budapest:20241126T200000
DTSTAMP:20260422T161908
CREATED:20241122T071851Z
LAST-MODIFIED:20241122T071851Z
UID:33145-1732640400-1732651200@mako.hu
SUMMARY:Térségünk kincsei a településünkön
DESCRIPTION:
URL:http://mako.hu/program/tersegunk-kincsei-a-telepulesunkon/
LOCATION:Hagymaház\, Posta u. 2.\, Makó\, 6900\, Magyarország
CATEGORIES:esemény
ATTACH;FMTTYPE=image/jpeg:http://mako.hu/wp-content/uploads/2024/11/img-3920.jpeg
END:VEVENT
END:VCALENDAR