BEGIN:VCALENDAR
VERSION:2.0
PRODID:-//Makó - ECPv6.8.3//NONSGML v1.0//EN
CALSCALE:GREGORIAN
METHOD:PUBLISH
X-WR-CALNAME:Makó
X-ORIGINAL-URL:http://mako.hu
X-WR-CALDESC:Events for Makó
REFRESH-INTERVAL;VALUE=DURATION:PT1H
X-Robots-Tag:noindex
X-PUBLISHED-TTL:PT1H
BEGIN:VTIMEZONE
TZID:Europe/Budapest
BEGIN:DAYLIGHT
TZOFFSETFROM:+0100
TZOFFSETTO:+0200
TZNAME:CEST
DTSTART:20240331T010000
END:DAYLIGHT
BEGIN:STANDARD
TZOFFSETFROM:+0200
TZOFFSETTO:+0100
TZNAME:CET
DTSTART:20241027T010000
END:STANDARD
END:VTIMEZONE
BEGIN:VEVENT
DTSTART;VALUE=DATE:20241115
DTEND;VALUE=DATE:20241117
DTSTAMP:20260422T173701
CREATED:20241104T134612Z
LAST-MODIFIED:20241104T134612Z
UID:32921-1731628800-1731801599@mako.hu
SUMMARY:Éjszakai fürdőzés
DESCRIPTION:
URL:http://mako.hu/program/ejszakai-furdozes-2/
LOCATION:Hagymatikum\, Makovecz tér 6.\, Makó\, 6900\, Magyarország
CATEGORIES:esemény
ATTACH;FMTTYPE=image/jpeg:http://mako.hu/wp-content/uploads/2024/11/ejszakai-furdozes.jpg
END:VEVENT
BEGIN:VEVENT
DTSTART;TZID=Europe/Budapest:20241115T140000
DTEND;TZID=Europe/Budapest:20241115T150000
DTSTAMP:20260422T173701
CREATED:20241031T132434Z
LAST-MODIFIED:20241105T102833Z
UID:32854-1731679200-1731682800@mako.hu
SUMMARY:Régi Olvasó-klub
DESCRIPTION:
URL:http://mako.hu/program/regi-olvaso-klub/
LOCATION:József Attila Városi Könyvtár és Múzeum\, Deák Ferenc u. 2.\, Makó\, 6900\, Magyarország
CATEGORIES:esemény
ATTACH;FMTTYPE=image/png:http://mako.hu/wp-content/uploads/2024/11/kedves-regi-olvasoklub-tagok.png
END:VEVENT
BEGIN:VEVENT
DTSTART;TZID=Europe/Budapest:20241115T150000
DTEND;TZID=Europe/Budapest:20241115T180000
DTSTAMP:20260422T173701
CREATED:20241029T105047Z
LAST-MODIFIED:20241029T105054Z
UID:32689-1731682800-1731693600@mako.hu
SUMMARY:Könyvklub  Kalász Arankával
DESCRIPTION:
URL:http://mako.hu/program/konyvklub-kalasz-arankaval/
LOCATION:József Attila Városi Könyvtár és Múzeum\, Deák Ferenc u. 2.\, Makó\, 6900\, Magyarország
CATEGORIES:esemény
END:VEVENT
BEGIN:VEVENT
DTSTART;TZID=Europe/Budapest:20241115T180000
DTEND;TZID=Europe/Budapest:20241115T200000
DTSTAMP:20260422T173701
CREATED:20241029T105013Z
LAST-MODIFIED:20241029T132543Z
UID:32687-1731693600-1731700800@mako.hu
SUMMARY:Dumaszínház
DESCRIPTION:
URL:http://mako.hu/program/dumaszinhaz-2/
LOCATION:Hagymaház\, Posta u. 2.\, Makó\, 6900\, Magyarország
CATEGORIES:esemény
ATTACH;FMTTYPE=image/jpeg:http://mako.hu/wp-content/uploads/2024/10/az-elet-csaszara-1.jpg
END:VEVENT
END:VCALENDAR