BEGIN:VCALENDAR
VERSION:2.0
PRODID:-//Makó - ECPv6.8.3//NONSGML v1.0//EN
CALSCALE:GREGORIAN
METHOD:PUBLISH
X-ORIGINAL-URL:http://mako.hu
X-WR-CALDESC:Events for Makó
REFRESH-INTERVAL;VALUE=DURATION:PT1H
X-Robots-Tag:noindex
X-PUBLISHED-TTL:PT1H
BEGIN:VTIMEZONE
TZID:Europe/Budapest
BEGIN:DAYLIGHT
TZOFFSETFROM:+0100
TZOFFSETTO:+0200
TZNAME:CEST
DTSTART:20240331T010000
END:DAYLIGHT
BEGIN:STANDARD
TZOFFSETFROM:+0200
TZOFFSETTO:+0100
TZNAME:CET
DTSTART:20241027T010000
END:STANDARD
END:VTIMEZONE
BEGIN:VEVENT
DTSTART;TZID=Europe/Budapest:20241114T100000
DTEND;TZID=Europe/Budapest:20241114T120000
DTSTAMP:20260422T161301
CREATED:20241029T104801Z
LAST-MODIFIED:20241029T104801Z
UID:32681-1731578400-1731585600@mako.hu
SUMMARY:Óperencia bérlet
DESCRIPTION:
URL:http://mako.hu/program/operencia-berlet/
LOCATION:Hagymaház\, Posta u. 2.\, Makó\, 6900\, Magyarország
CATEGORIES:esemény
END:VEVENT
BEGIN:VEVENT
DTSTART;TZID=Europe/Budapest:20241114T140000
DTEND;TZID=Europe/Budapest:20241114T170000
DTSTAMP:20260422T161301
CREATED:20241029T104717Z
LAST-MODIFIED:20241029T104717Z
UID:32679-1731592800-1731603600@mako.hu
SUMMARY:Futsal Diákolimpia
DESCRIPTION:
URL:http://mako.hu/program/futsal-diakolimpia-2/
LOCATION:Erdei János Városi Sportcsarnok\, Csanád vezér tér 6-10.\, Makó\, 6900\, Magyarország
CATEGORIES:esemény
END:VEVENT
BEGIN:VEVENT
DTSTART;TZID=Europe/Budapest:20241114T153000
DTEND;TZID=Europe/Budapest:20241114T170000
DTSTAMP:20260422T161301
CREATED:20241031T132241Z
LAST-MODIFIED:20241031T132241Z
UID:32850-1731598200-1731603600@mako.hu
SUMMARY:Természetgyógyász klub
DESCRIPTION:
URL:http://mako.hu/program/termeszetgyogyasz-klub-2/
LOCATION:József Attila Városi Könyvtár és Múzeum\, Deák Ferenc u. 2.\, Makó\, 6900\, Magyarország
CATEGORIES:esemény
END:VEVENT
BEGIN:VEVENT
DTSTART;TZID=Europe/Budapest:20241114T160000
DTEND;TZID=Europe/Budapest:20241114T180000
DTSTAMP:20260422T161301
CREATED:20241031T132330Z
LAST-MODIFIED:20241031T132330Z
UID:32852-1731600000-1731607200@mako.hu
SUMMARY:Maros-menti könyvklub
DESCRIPTION:
URL:http://mako.hu/program/maros-menti-konyvklub/
LOCATION:József Attila Városi Könyvtár és Múzeum\, Deák Ferenc u. 2.\, Makó\, 6900\, Magyarország
CATEGORIES:esemény
END:VEVENT
BEGIN:VEVENT
DTSTART;TZID=Europe/Budapest:20241114T170000
DTEND;TZID=Europe/Budapest:20241114T190000
DTSTAMP:20260422T161301
CREATED:20241029T104923Z
LAST-MODIFIED:20241029T104923Z
UID:32685-1731603600-1731610800@mako.hu
SUMMARY:KOFFER - Czibolya Kálmán élméybeszámolója
DESCRIPTION:
URL:http://mako.hu/program/koffer-czibolya-kalman-elmeybeszamoloja/
LOCATION:József Attila Városi Könyvtár és Múzeum\, Deák Ferenc u. 2.\, Makó\, 6900\, Magyarország
CATEGORIES:esemény
END:VEVENT
END:VCALENDAR