BEGIN:VCALENDAR
VERSION:2.0
PRODID:-//Makó - ECPv6.8.3//NONSGML v1.0//EN
CALSCALE:GREGORIAN
METHOD:PUBLISH
X-WR-CALNAME:Makó
X-ORIGINAL-URL:http://mako.hu
X-WR-CALDESC:Events for Makó
REFRESH-INTERVAL;VALUE=DURATION:PT1H
X-Robots-Tag:noindex
X-PUBLISHED-TTL:PT1H
BEGIN:VTIMEZONE
TZID:Europe/Budapest
BEGIN:DAYLIGHT
TZOFFSETFROM:+0100
TZOFFSETTO:+0200
TZNAME:CEST
DTSTART:20240331T010000
END:DAYLIGHT
BEGIN:STANDARD
TZOFFSETFROM:+0200
TZOFFSETTO:+0100
TZNAME:CET
DTSTART:20241027T010000
END:STANDARD
END:VTIMEZONE
BEGIN:VEVENT
DTSTART;VALUE=DATE:20241015
DTEND;VALUE=DATE:20241113
DTSTAMP:20260422T173618
CREATED:20241111T065744Z
LAST-MODIFIED:20241111T065744Z
UID:32972-1728950400-1731455999@mako.hu
SUMMARY:Őszi sport 7-ek.
DESCRIPTION:
URL:http://mako.hu/program/oszi-sport-7-ek/
CATEGORIES:esemény
END:VEVENT
BEGIN:VEVENT
DTSTART;TZID=Europe/Budapest:20241105T140000
DTEND;TZID=Europe/Budapest:20241105T170000
DTSTAMP:20260422T173618
CREATED:20241029T104257Z
LAST-MODIFIED:20241029T104257Z
UID:32669-1730815200-1730826000@mako.hu
SUMMARY:Futsal Diákolimpia
DESCRIPTION:
URL:http://mako.hu/program/futsal-diakolimpia/
LOCATION:Erdei János Városi Sportcsarnok\, Csanád vezér tér 6-10.\, Makó\, 6900\, Magyarország
CATEGORIES:esemény
END:VEVENT
BEGIN:VEVENT
DTSTART;TZID=Europe/Budapest:20241105T170000
DTEND;TZID=Europe/Budapest:20241105T190000
DTSTAMP:20260422T173618
CREATED:20241029T104352Z
LAST-MODIFIED:20241029T133551Z
UID:32671-1730826000-1730833200@mako.hu
SUMMARY:Kutasd a múltad! (Petőfi Kulturális Program)
DESCRIPTION:
URL:http://mako.hu/program/kutasd-a-multat-petofi-kulturalis-program/
LOCATION:Hagymaház\, Posta u. 2.\, Makó\, 6900\, Magyarország
CATEGORIES:esemény
ATTACH;FMTTYPE=image/jpeg:http://mako.hu/wp-content/uploads/2024/10/kutasd-a-multat.jpg
END:VEVENT
END:VCALENDAR