BEGIN:VCALENDAR
VERSION:2.0
PRODID:-//Makó - ECPv6.8.3//NONSGML v1.0//EN
CALSCALE:GREGORIAN
METHOD:PUBLISH
X-ORIGINAL-URL:http://mako.hu
X-WR-CALDESC:Events for Makó
REFRESH-INTERVAL;VALUE=DURATION:PT1H
X-Robots-Tag:noindex
X-PUBLISHED-TTL:PT1H
BEGIN:VTIMEZONE
TZID:Europe/Budapest
BEGIN:DAYLIGHT
TZOFFSETFROM:+0100
TZOFFSETTO:+0200
TZNAME:CEST
DTSTART:20240331T010000
END:DAYLIGHT
BEGIN:STANDARD
TZOFFSETFROM:+0200
TZOFFSETTO:+0100
TZNAME:CET
DTSTART:20241027T010000
END:STANDARD
END:VTIMEZONE
BEGIN:VEVENT
DTSTART;VALUE=DATE:20241015
DTEND;VALUE=DATE:20241113
DTSTAMP:20260422T161058
CREATED:20241111T065744Z
LAST-MODIFIED:20241111T065744Z
UID:32972-1728950400-1731455999@mako.hu
SUMMARY:Őszi sport 7-ek.
DESCRIPTION:
URL:http://mako.hu/program/oszi-sport-7-ek/
CATEGORIES:esemény
END:VEVENT
BEGIN:VEVENT
DTSTART;TZID=Europe/Budapest:20241104T153000
DTEND;TZID=Europe/Budapest:20241104T190000
DTSTAMP:20260422T161058
CREATED:20241031T131852Z
LAST-MODIFIED:20241031T131852Z
UID:32844-1730734200-1730746800@mako.hu
SUMMARY:Stílus és bútortöténet előadássorozat első része
DESCRIPTION:
URL:http://mako.hu/program/stilus-es-butortotenet-eloadassorozat-elso-resze/
LOCATION:József Attila Városi Könyvtár és Múzeum\, Deák Ferenc u. 2.\, Makó\, 6900\, Magyarország
CATEGORIES:esemény
END:VEVENT
BEGIN:VEVENT
DTSTART;TZID=Europe/Budapest:20241104T163000
DTEND;TZID=Europe/Budapest:20241104T183000
DTSTAMP:20260422T161058
CREATED:20241029T104208Z
LAST-MODIFIED:20241029T104208Z
UID:32667-1730737800-1730745000@mako.hu
SUMMARY:József Attila kör
DESCRIPTION:
URL:http://mako.hu/program/jozsef-attila-kor/
LOCATION:József Attila Városi Könyvtár és Múzeum\, Deák Ferenc u. 2.\, Makó\, 6900\, Magyarország
CATEGORIES:esemény
END:VEVENT
END:VCALENDAR