BEGIN:VCALENDAR
VERSION:2.0
PRODID:-//Makó - ECPv6.8.3//NONSGML v1.0//EN
CALSCALE:GREGORIAN
METHOD:PUBLISH
X-ORIGINAL-URL:http://mako.hu
X-WR-CALDESC:Events for Makó
REFRESH-INTERVAL;VALUE=DURATION:PT1H
X-Robots-Tag:noindex
X-PUBLISHED-TTL:PT1H
BEGIN:VTIMEZONE
TZID:Europe/Budapest
BEGIN:DAYLIGHT
TZOFFSETFROM:+0100
TZOFFSETTO:+0200
TZNAME:CEST
DTSTART:20240331T010000
END:DAYLIGHT
BEGIN:STANDARD
TZOFFSETFROM:+0200
TZOFFSETTO:+0100
TZNAME:CET
DTSTART:20241027T010000
END:STANDARD
END:VTIMEZONE
BEGIN:VEVENT
DTSTART;VALUE=DATE:20240913
DTEND;VALUE=DATE:20240916
DTSTAMP:20260422T221102
CREATED:20240904T071846Z
LAST-MODIFIED:20240904T071846Z
UID:32118-1726185600-1726444799@mako.hu
SUMMARY:Hagymafesztivál 2024
DESCRIPTION:
URL:http://mako.hu/program/hagymafesztival-2024/
CATEGORIES:esemény
ATTACH;FMTTYPE=image/jpeg:http://mako.hu/wp-content/uploads/2024/09/hagymafesztival-reszletes-plakat-2024-a1-1-scaled.jpg
END:VEVENT
BEGIN:VEVENT
DTSTART;TZID=Europe/Budapest:20240914T200000
DTEND;TZID=Europe/Budapest:20240914T213000
DTSTAMP:20260422T221102
CREATED:20240904T130320Z
LAST-MODIFIED:20240904T130336Z
UID:32150-1726344000-1726349400@mako.hu
SUMMARY:Dzsúdló
DESCRIPTION:
URL:http://mako.hu/program/dzsudlo/
CATEGORIES:zenei
ATTACH;FMTTYPE=image/jpeg:http://mako.hu/wp-content/uploads/2024/09/dzsudlo.jpg
END:VEVENT
BEGIN:VEVENT
DTSTART;TZID=Europe/Budapest:20240914T220000
DTEND;TZID=Europe/Budapest:20240914T230000
DTSTAMP:20260422T221102
CREATED:20240904T122449Z
LAST-MODIFIED:20240904T122508Z
UID:32132-1726351200-1726354800@mako.hu
SUMMARY:Animal Cannibals
DESCRIPTION:
URL:http://mako.hu/program/animal-cannibals/
CATEGORIES:zenei
ATTACH;FMTTYPE=image/jpeg:http://mako.hu/wp-content/uploads/2024/09/animal-cannibals-fb-event-post.jpg
END:VEVENT
BEGIN:VEVENT
DTSTART;TZID=Europe/Budapest:20240914T233000
DTEND;TZID=Europe/Budapest:20240915T010000
DTSTAMP:20260422T221102
CREATED:20240904T122627Z
LAST-MODIFIED:20240904T122627Z
UID:32133-1726356600-1726362000@mako.hu
SUMMARY:Aurevoir
DESCRIPTION:
URL:http://mako.hu/program/aurevoir/
CATEGORIES:zenei
ATTACH;FMTTYPE=image/jpeg:http://mako.hu/wp-content/uploads/2024/09/aurevoir-fb-event-post.jpg
END:VEVENT
END:VCALENDAR