BEGIN:VCALENDAR
VERSION:2.0
PRODID:-//Makó - ECPv6.8.3//NONSGML v1.0//EN
CALSCALE:GREGORIAN
METHOD:PUBLISH
X-ORIGINAL-URL:http://mako.hu
X-WR-CALDESC:Events for Makó
REFRESH-INTERVAL;VALUE=DURATION:PT1H
X-Robots-Tag:noindex
X-PUBLISHED-TTL:PT1H
BEGIN:VTIMEZONE
TZID:Europe/Budapest
BEGIN:DAYLIGHT
TZOFFSETFROM:+0100
TZOFFSETTO:+0200
TZNAME:CEST
DTSTART:20240331T010000
END:DAYLIGHT
BEGIN:STANDARD
TZOFFSETFROM:+0200
TZOFFSETTO:+0100
TZNAME:CET
DTSTART:20241027T010000
END:STANDARD
END:VTIMEZONE
BEGIN:VEVENT
DTSTART;VALUE=DATE:20240913
DTEND;VALUE=DATE:20240916
DTSTAMP:20260422T221101
CREATED:20240904T071846Z
LAST-MODIFIED:20240904T071846Z
UID:32118-1726185600-1726444799@mako.hu
SUMMARY:Hagymafesztivál 2024
DESCRIPTION:
URL:http://mako.hu/program/hagymafesztival-2024/
CATEGORIES:esemény
ATTACH;FMTTYPE=image/jpeg:http://mako.hu/wp-content/uploads/2024/09/hagymafesztival-reszletes-plakat-2024-a1-1-scaled.jpg
END:VEVENT
BEGIN:VEVENT
DTSTART;TZID=Europe/Budapest:20240913T200000
DTEND;TZID=Europe/Budapest:20240913T210000
DTSTAMP:20260422T221101
CREATED:20240904T122015Z
LAST-MODIFIED:20240904T122047Z
UID:32130-1726257600-1726261200@mako.hu
SUMMARY:Curtis
DESCRIPTION:
URL:http://mako.hu/program/curtis/
CATEGORIES:zenei
ATTACH;FMTTYPE=image/jpeg:http://mako.hu/wp-content/uploads/2024/09/curtis.jpg
END:VEVENT
BEGIN:VEVENT
DTSTART;TZID=Europe/Budapest:20240913T230000
DTEND;TZID=Europe/Budapest:20240913T235900
DTSTAMP:20260422T221101
CREATED:20240904T122151Z
LAST-MODIFIED:20240904T122231Z
UID:32131-1726268400-1726271940@mako.hu
SUMMARY:Regán Lili
DESCRIPTION:
URL:http://mako.hu/program/regan-lili/
CATEGORIES:zenei
ATTACH;FMTTYPE=image/jpeg:http://mako.hu/wp-content/uploads/2024/09/regan-lili.jpg
END:VEVENT
END:VCALENDAR