BEGIN:VCALENDAR
VERSION:2.0
PRODID:-//Makó - ECPv6.8.3//NONSGML v1.0//EN
CALSCALE:GREGORIAN
METHOD:PUBLISH
X-WR-CALNAME:Makó
X-ORIGINAL-URL:http://mako.hu
X-WR-CALDESC:Events for Makó
REFRESH-INTERVAL;VALUE=DURATION:PT1H
X-Robots-Tag:noindex
X-PUBLISHED-TTL:PT1H
BEGIN:VTIMEZONE
TZID:Europe/Budapest
BEGIN:DAYLIGHT
TZOFFSETFROM:+0100
TZOFFSETTO:+0200
TZNAME:CEST
DTSTART:20230326T010000
END:DAYLIGHT
BEGIN:STANDARD
TZOFFSETFROM:+0200
TZOFFSETTO:+0100
TZNAME:CET
DTSTART:20231029T010000
END:STANDARD
END:VTIMEZONE
BEGIN:VEVENT
DTSTART;VALUE=DATE:20230403
DTEND;VALUE=DATE:20230429
DTSTAMP:20260424T020120
CREATED:20230322T071754Z
LAST-MODIFIED:20230322T071754Z
UID:28250-1680480000-1682726399@mako.hu
SUMMARY:SZÍN-TÉR képzőművészeti kiállítás
DESCRIPTION:
URL:http://mako.hu/program/szin-ter-kepzomuveszeti-kiallitas/
LOCATION:Hagymaház\, Posta u. 2.\, Makó\, 6900\, Magyarország
CATEGORIES:kiállítás
ATTACH;FMTTYPE=image/jpeg:http://mako.hu/wp-content/uploads/2023/03/jag-szin-ter-meghivo-2023-04-03-scaled.jpg
END:VEVENT
BEGIN:VEVENT
DTSTART;VALUE=DATE:20230422
DTEND;VALUE=DATE:20230423
DTSTAMP:20260424T020120
CREATED:20230328T132432Z
LAST-MODIFIED:20230328T132457Z
UID:28355-1682121600-1682207999@mako.hu
SUMMARY:Bartók Béla Kerékpáros Emléktúra Nagyszentmiklósra
DESCRIPTION:
URL:http://mako.hu/program/bartok-bela-kerekparos-emlektura-nagyszentmiklosra/
CATEGORIES:esemény
ATTACH;FMTTYPE=image/jpeg:http://mako.hu/wp-content/uploads/2023/03/bartok-scaled.jpg
END:VEVENT
END:VCALENDAR